BEGIN:VCALENDAR
VERSION:2.0
PRODID:-//Herr Bombelmann - ECPv5.9.0//NONSGML v1.0//EN
CALSCALE:GREGORIAN
METHOD:PUBLISH
X-WR-CALNAME:Herr Bombelmann
X-ORIGINAL-URL:https://bombelmann.de
X-WR-CALDESC:Veranstaltungen für Herr Bombelmann
BEGIN:VTIMEZONE
TZID:Europe/Berlin
BEGIN:DAYLIGHT
TZOFFSETFROM:+0100
TZOFFSETTO:+0200
TZNAME:CEST
DTSTART:20260329T010000
END:DAYLIGHT
BEGIN:STANDARD
TZOFFSETFROM:+0200
TZOFFSETTO:+0100
TZNAME:CET
DTSTART:20261025T010000
END:STANDARD
END:VTIMEZONE
BEGIN:VEVENT
DTSTART;TZID=Europe/Berlin:20260420T083000
DTEND;TZID=Europe/Berlin:20260420T113000
DTSTAMP:20260425T135700
CREATED:20260210T054843Z
LAST-MODIFIED:20260210T054843Z
UID:2395-1776673800-1776684600@bombelmann.de
SUMMARY:Drei-Franken-Grundchule\, 96160 Geiselwind
DESCRIPTION:
URL:https://bombelmann.de/event/drei-franken-grundchule-96160-geiselwind/
LOCATION:Drei-Franken-Grundschule\, Friedrichstraße 6\, Geiselwind\, 96160
END:VEVENT
END:VCALENDAR