BEGIN:VCALENDAR
VERSION:2.0
PRODID:-//Herr Bombelmann - ECPv5.9.0//NONSGML v1.0//EN
CALSCALE:GREGORIAN
METHOD:PUBLISH
X-WR-CALNAME:Herr Bombelmann
X-ORIGINAL-URL:https://bombelmann.de
X-WR-CALDESC:Veranstaltungen für Herr Bombelmann
BEGIN:VTIMEZONE
TZID:Europe/Berlin
BEGIN:DAYLIGHT
TZOFFSETFROM:+0100
TZOFFSETTO:+0200
TZNAME:CEST
DTSTART:20260329T010000
END:DAYLIGHT
BEGIN:STANDARD
TZOFFSETFROM:+0200
TZOFFSETTO:+0100
TZNAME:CET
DTSTART:20261025T010000
END:STANDARD
END:VTIMEZONE
BEGIN:VEVENT
DTSTART;TZID=Europe/Berlin:20260311T080000
DTEND;TZID=Europe/Berlin:20260311T120000
DTSTAMP:20260426T005840
CREATED:20250812T081845Z
LAST-MODIFIED:20250812T081845Z
UID:2200-1773216000-1773230400@bombelmann.de
SUMMARY:Grundschule Am Stollen\, 98693 Ilmenau
DESCRIPTION:
URL:https://bombelmann.de/event/grundschule-am-stollen-98693-ilmenau-2/
LOCATION:Grundschule Am Stoellen\, Bergrat-Vooigt-Straße 51\, Ilmenau\, 98693
END:VEVENT
END:VCALENDAR