BEGIN:VCALENDAR
VERSION:2.0
PRODID:-//Herr Bombelmann - ECPv5.9.0//NONSGML v1.0//EN
CALSCALE:GREGORIAN
METHOD:PUBLISH
X-WR-CALNAME:Herr Bombelmann
X-ORIGINAL-URL:https://bombelmann.de
X-WR-CALDESC:Veranstaltungen für Herr Bombelmann
BEGIN:VTIMEZONE
TZID:Europe/Berlin
BEGIN:DAYLIGHT
TZOFFSETFROM:+0100
TZOFFSETTO:+0200
TZNAME:CEST
DTSTART:20260329T010000
END:DAYLIGHT
BEGIN:STANDARD
TZOFFSETFROM:+0200
TZOFFSETTO:+0100
TZNAME:CET
DTSTART:20261025T010000
END:STANDARD
END:VTIMEZONE
BEGIN:VEVENT
DTSTART;TZID=Europe/Berlin:20260518T080000
DTEND;TZID=Europe/Berlin:20260518T120000
DTSTAMP:20260419T153759
CREATED:20260129T092404Z
LAST-MODIFIED:20260129T092404Z
UID:2377-1779091200-1779105600@bombelmann.de
SUMMARY:Grundschule Besengau\, 97654 Bastheim
DESCRIPTION:
URL:https://bombelmann.de/event/grundschule-besengau-97654-bastheim/
LOCATION:GGrundschule Besengau\, Schulstraße 8\, Bastheim-Besengau\, 97654
END:VEVENT
END:VCALENDAR