BEGIN:VCALENDAR
VERSION:2.0
PRODID:-//Herr Bombelmann - ECPv5.9.0//NONSGML v1.0//EN
CALSCALE:GREGORIAN
METHOD:PUBLISH
X-WR-CALNAME:Herr Bombelmann
X-ORIGINAL-URL:https://bombelmann.de
X-WR-CALDESC:Veranstaltungen für Herr Bombelmann
BEGIN:VTIMEZONE
TZID:Europe/Berlin
BEGIN:DAYLIGHT
TZOFFSETFROM:+0100
TZOFFSETTO:+0200
TZNAME:CEST
DTSTART:20260329T010000
END:DAYLIGHT
BEGIN:STANDARD
TZOFFSETFROM:+0200
TZOFFSETTO:+0100
TZNAME:CET
DTSTART:20261025T010000
END:STANDARD
END:VTIMEZONE
BEGIN:VEVENT
DTSTART;TZID=Europe/Berlin:20260519T083000
DTEND;TZID=Europe/Berlin:20260519T113000
DTSTAMP:20260419T165154
CREATED:20260222T145151Z
LAST-MODIFIED:20260222T145151Z
UID:2409-1779179400-1779190200@bombelmann.de
SUMMARY:Hirschbachschule\, 64354 Reinheim (reserviert)
DESCRIPTION:
URL:https://bombelmann.de/event/hirschbachschule-64354-reinheim-reserviert/
LOCATION:Hirschbachschule\, Zeilharder Straße 18\, Reinheim\, 64354
END:VEVENT
END:VCALENDAR