BEGIN:VCALENDAR
VERSION:2.0
PRODID:-//Herr Bombelmann - ECPv5.9.0//NONSGML v1.0//EN
CALSCALE:GREGORIAN
METHOD:PUBLISH
X-WR-CALNAME:Herr Bombelmann
X-ORIGINAL-URL:https://bombelmann.de
X-WR-CALDESC:Veranstaltungen für Herr Bombelmann
BEGIN:VTIMEZONE
TZID:Europe/Berlin
BEGIN:DAYLIGHT
TZOFFSETFROM:+0100
TZOFFSETTO:+0200
TZNAME:CEST
DTSTART:20260329T010000
END:DAYLIGHT
BEGIN:STANDARD
TZOFFSETFROM:+0200
TZOFFSETTO:+0100
TZNAME:CET
DTSTART:20261025T010000
END:STANDARD
END:VTIMEZONE
BEGIN:VEVENT
DTSTART;TZID=Europe/Berlin:20260506T080000
DTEND;TZID=Europe/Berlin:20260506T120000
DTSTAMP:20260419T165326
CREATED:20260125T152323Z
LAST-MODIFIED:20260125T152323Z
UID:2371-1778054400-1778068800@bombelmann.de
SUMMARY:Josef-Zerhoch-Grundschule\, 82380 Peißenberg
DESCRIPTION:
URL:https://bombelmann.de/event/josef-zerhoch-grundschule-82380-peissenberg/
LOCATION:Josef-Zerhoch-Grundschule\, Pestalozzistraße 4\, Paißenberg\, 82380
END:VEVENT
END:VCALENDAR