BEGIN:VCALENDAR
VERSION:2.0
PRODID:-//Herr Bombelmann - ECPv5.9.0//NONSGML v1.0//EN
CALSCALE:GREGORIAN
METHOD:PUBLISH
X-WR-CALNAME:Herr Bombelmann
X-ORIGINAL-URL:https://bombelmann.de
X-WR-CALDESC:Events for Herr Bombelmann
BEGIN:VTIMEZONE
TZID:Europe/Berlin
BEGIN:DAYLIGHT
TZOFFSETFROM:+0100
TZOFFSETTO:+0200
TZNAME:CEST
DTSTART:20260329T010000
END:DAYLIGHT
BEGIN:STANDARD
TZOFFSETFROM:+0200
TZOFFSETTO:+0100
TZNAME:CET
DTSTART:20261025T010000
END:STANDARD
END:VTIMEZONE
BEGIN:VEVENT
DTSTART;TZID=Europe/Berlin:20260310T080000
DTEND;TZID=Europe/Berlin:20260310T110000
DTSTAMP:20260426T005217
CREATED:20250821T174507Z
LAST-MODIFIED:20250821T174507Z
UID:2208-1773129600-1773140400@bombelmann.de
SUMMARY:Grundschule Elgershausen\, 34270 Schauenburg
DESCRIPTION:
URL:https://bombelmann.de/event/grundschule-elgershausen-34270-schauenburg/
LOCATION:Grundschule Elgershausen\, Unterer Kirchweg 5\, Schauenburg\, 34270
END:VEVENT
END:VCALENDAR