BEGIN:VCALENDAR
VERSION:2.0
PRODID:-//Herr Bombelmann - ECPv5.9.0//NONSGML v1.0//EN
CALSCALE:GREGORIAN
METHOD:PUBLISH
X-WR-CALNAME:Herr Bombelmann
X-ORIGINAL-URL:https://bombelmann.de
X-WR-CALDESC:Events for Herr Bombelmann
BEGIN:VTIMEZONE
TZID:Europe/Berlin
BEGIN:DAYLIGHT
TZOFFSETFROM:+0100
TZOFFSETTO:+0200
TZNAME:CEST
DTSTART:20260329T010000
END:DAYLIGHT
BEGIN:STANDARD
TZOFFSETFROM:+0200
TZOFFSETTO:+0100
TZNAME:CET
DTSTART:20261025T010000
END:STANDARD
END:VTIMEZONE
BEGIN:VEVENT
DTSTART;TZID=Europe/Berlin:20260422T080000
DTEND;TZID=Europe/Berlin:20260422T130000
DTSTAMP:20260423T171522
CREATED:20250923T125906Z
LAST-MODIFIED:20250923T125906Z
UID:2277-1776844800-1776862800@bombelmann.de
SUMMARY:GS Brendlorenzen  97616 Bad Neustadt a. d. Saale
DESCRIPTION:
URL:https://bombelmann.de/event/gs-brendlorenzen-97616-bad-neustadt-a-d-saale/
LOCATION:GS Brendlorenzen\, Valentin-Rathgeber-Str. 1\, Bad Neustadt a. d. Saale\, 97616
END:VEVENT
END:VCALENDAR