BEGIN:VCALENDAR
VERSION:2.0
PRODID:-//Herr Bombelmann - ECPv5.9.0//NONSGML v1.0//EN
CALSCALE:GREGORIAN
METHOD:PUBLISH
X-WR-CALNAME:Herr Bombelmann
X-ORIGINAL-URL:https://bombelmann.de
X-WR-CALDESC:Events for Herr Bombelmann
BEGIN:VTIMEZONE
TZID:Europe/Berlin
BEGIN:DAYLIGHT
TZOFFSETFROM:+0100
TZOFFSETTO:+0200
TZNAME:CEST
DTSTART:20260329T010000
END:DAYLIGHT
BEGIN:STANDARD
TZOFFSETFROM:+0200
TZOFFSETTO:+0100
TZNAME:CET
DTSTART:20261025T010000
END:STANDARD
END:VTIMEZONE
BEGIN:VEVENT
DTSTART;TZID=Europe/Berlin:20260505T080000
DTEND;TZID=Europe/Berlin:20260505T100000
DTSTAMP:20260423T221555
CREATED:20251127T120401Z
LAST-MODIFIED:20251205T175434Z
UID:2321-1777968000-1777975200@bombelmann.de
SUMMARY:GS Drachselsried    94256 Drachselsried
DESCRIPTION:
URL:https://bombelmann.de/event/gs-drachselsried-94256-drachselsried/
LOCATION:GS Drachselsried\, Schulstraße 3\, Drachselsried\, 94256
END:VEVENT
BEGIN:VEVENT
DTSTART;TZID=Europe/Berlin:20260505T103000
DTEND;TZID=Europe/Berlin:20260505T123000
DTSTAMP:20260423T221555
CREATED:20251205T175623Z
LAST-MODIFIED:20251205T175623Z
UID:2334-1777977000-1777984200@bombelmann.de
SUMMARY:Grundschule Arnbruck\, 93471 Arnbruck
DESCRIPTION:
URL:https://bombelmann.de/event/grundschule-arnbruck-93471-arnbruck/
LOCATION:Grundschule Arnbruck\, Schulstraße 1\, Arnbruck\, 93471
END:VEVENT
END:VCALENDAR