BEGIN:VCALENDAR
VERSION:2.0
PRODID:-//Herr Bombelmann - ECPv5.9.0//NONSGML v1.0//EN
CALSCALE:GREGORIAN
METHOD:PUBLISH
X-WR-CALNAME:Herr Bombelmann
X-ORIGINAL-URL:https://bombelmann.de
X-WR-CALDESC:Events for Herr Bombelmann
BEGIN:VTIMEZONE
TZID:Europe/Berlin
BEGIN:DAYLIGHT
TZOFFSETFROM:+0100
TZOFFSETTO:+0200
TZNAME:CEST
DTSTART:20260329T010000
END:DAYLIGHT
BEGIN:STANDARD
TZOFFSETFROM:+0200
TZOFFSETTO:+0100
TZNAME:CET
DTSTART:20261025T010000
END:STANDARD
END:VTIMEZONE
BEGIN:VEVENT
DTSTART;TZID=Europe/Berlin:20260702T080000
DTEND;TZID=Europe/Berlin:20260702T100000
DTSTAMP:20260425T151532
CREATED:20260327T105008Z
LAST-MODIFIED:20260327T105008Z
UID:2443-1782979200-1782986400@bombelmann.de
SUMMARY:Grundschule Seitingen-Oberflacht\, 78606 Seitingen
DESCRIPTION:
URL:https://bombelmann.de/event/grundschule-seitingen-oberflacht-78606-seitingen/
LOCATION:Grundschule Seitingen-Oberflacht\, Schulweg 5\, Seitingen-Oberflacht\, 78606
END:VEVENT
BEGIN:VEVENT
DTSTART;TZID=Europe/Berlin:20260702T103000
DTEND;TZID=Europe/Berlin:20260702T123000
DTSTAMP:20260425T151532
CREATED:20260327T105330Z
LAST-MODIFIED:20260327T105955Z
UID:2446-1782988200-1782995400@bombelmann.de
SUMMARY:Grundschule Talheim\, 78607 Talheim
DESCRIPTION:
URL:https://bombelmann.de/event/grundschule-talheim-78607-talheim/
LOCATION:Grundschule Talheim\, Bauerngasse 1\, Talheim\, 78607
END:VEVENT
BEGIN:VEVENT
DTSTART;TZID=Europe/Berlin:20260702T133000
DTEND;TZID=Europe/Berlin:20260702T160000
DTSTAMP:20260425T151532
CREATED:20260327T105904Z
LAST-MODIFIED:20260327T105904Z
UID:2449-1782999000-1783008000@bombelmann.de
SUMMARY:Grundschule Bubsheim\, 78585 Bubsheim
DESCRIPTION:
URL:https://bombelmann.de/event/grundschule-bubsheim-78585-bubsheim/
LOCATION:Grundschule  Bubsheim\, Böttinger Straße 1\, Bubsheim\, 78585
END:VEVENT
END:VCALENDAR