BEGIN:VCALENDAR
VERSION:2.0
PRODID:-//Herr Bombelmann - ECPv5.9.0//NONSGML v1.0//EN
CALSCALE:GREGORIAN
METHOD:PUBLISH
X-WR-CALNAME:Herr Bombelmann
X-ORIGINAL-URL:https://bombelmann.de
X-WR-CALDESC:Events for Herr Bombelmann
BEGIN:VTIMEZONE
TZID:Europe/Berlin
BEGIN:DAYLIGHT
TZOFFSETFROM:+0100
TZOFFSETTO:+0200
TZNAME:CEST
DTSTART:20260329T010000
END:DAYLIGHT
BEGIN:STANDARD
TZOFFSETFROM:+0200
TZOFFSETTO:+0100
TZNAME:CET
DTSTART:20261025T010000
END:STANDARD
END:VTIMEZONE
BEGIN:VEVENT
DTSTART;TZID=Europe/Berlin:20260709T083000
DTEND;TZID=Europe/Berlin:20260709T120000
DTSTAMP:20260425T170236
CREATED:20260129T073003Z
LAST-MODIFIED:20260129T073003Z
UID:2375-1783585800-1783598400@bombelmann.de
SUMMARY:Grundschule Ostheim v.d. Rhön\, 97645 Ostheim
DESCRIPTION:
URL:https://bombelmann.de/event/grundschule-ostheim-v-d-rhoen-97645-ostheim/
LOCATION:GS Ostheim v.d.Rhön\, Ritter-von-Halt-Str. 7\, Ostheim\, 97645
END:VEVENT
END:VCALENDAR