BEGIN:VCALENDAR
VERSION:2.0
PRODID:-//Herr Bombelmann - ECPv5.9.0//NONSGML v1.0//EN
CALSCALE:GREGORIAN
METHOD:PUBLISH
X-WR-CALNAME:Herr Bombelmann
X-ORIGINAL-URL:https://bombelmann.de
X-WR-CALDESC:Events for Herr Bombelmann
BEGIN:VTIMEZONE
TZID:Europe/Berlin
BEGIN:DAYLIGHT
TZOFFSETFROM:+0100
TZOFFSETTO:+0200
TZNAME:CEST
DTSTART:20260329T010000
END:DAYLIGHT
BEGIN:STANDARD
TZOFFSETFROM:+0200
TZOFFSETTO:+0100
TZNAME:CET
DTSTART:20261025T010000
END:STANDARD
END:VTIMEZONE
BEGIN:VEVENT
DTSTART;TZID=Europe/Berlin:20260715T080000
DTEND;TZID=Europe/Berlin:20260715T120000
DTSTAMP:20260425T171126
CREATED:20260325T175937Z
LAST-MODIFIED:20260325T175937Z
UID:2439-1784102400-1784116800@bombelmann.de
SUMMARY:Grundschule Kleinsachsenheim\, 74343 Sachsenheim
DESCRIPTION:
URL:https://bombelmann.de/event/grundschule-kleinsachsenheim-74343-sachsenheim/
LOCATION:Grundschule Kleinsachsenheim\, Besigheimer Weg 8\, Sachsenheim\, 74343
END:VEVENT
END:VCALENDAR