BEGIN:VCALENDAR
VERSION:2.0
PRODID:-//Herr Bombelmann - ECPv5.9.0//NONSGML v1.0//EN
CALSCALE:GREGORIAN
METHOD:PUBLISH
X-WR-CALNAME:Herr Bombelmann
X-ORIGINAL-URL:https://bombelmann.de
X-WR-CALDESC:Events for Herr Bombelmann
BEGIN:VTIMEZONE
TZID:Europe/Berlin
BEGIN:DAYLIGHT
TZOFFSETFROM:+0100
TZOFFSETTO:+0200
TZNAME:CEST
DTSTART:20260329T010000
END:DAYLIGHT
BEGIN:STANDARD
TZOFFSETFROM:+0200
TZOFFSETTO:+0100
TZNAME:CET
DTSTART:20261025T010000
END:STANDARD
END:VTIMEZONE
BEGIN:VEVENT
DTSTART;TZID=Europe/Berlin:20260309T082500
DTEND;TZID=Europe/Berlin:20260309T121500
DTSTAMP:20260425T232328
CREATED:20250903T172124Z
LAST-MODIFIED:20250903T172124Z
UID:2250-1773044700-1773058500@bombelmann.de
SUMMARY:Wilhelm-Busch-Schule\, 65719 Hofheim a.Ts.
DESCRIPTION:
URL:https://bombelmann.de/event/wilhelm-busch-schule-65719-hofheim-a-ts/
LOCATION:Wilhelm-Busch-Schule\, Sportplatzstraße 9\, Hofheim a. Ts.\, 65719
END:VEVENT
BEGIN:VEVENT
DTSTART;TZID=Europe/Berlin:20260310T080000
DTEND;TZID=Europe/Berlin:20260310T110000
DTSTAMP:20260425T232328
CREATED:20250821T174507Z
LAST-MODIFIED:20250821T174507Z
UID:2208-1773129600-1773140400@bombelmann.de
SUMMARY:Grundschule Elgershausen\, 34270 Schauenburg
DESCRIPTION:
URL:https://bombelmann.de/event/grundschule-elgershausen-34270-schauenburg/
LOCATION:Grundschule Elgershausen\, Unterer Kirchweg 5\, Schauenburg\, 34270
END:VEVENT
BEGIN:VEVENT
DTSTART;TZID=Europe/Berlin:20260311T080000
DTEND;TZID=Europe/Berlin:20260311T120000
DTSTAMP:20260425T232328
CREATED:20250812T081845Z
LAST-MODIFIED:20250812T081845Z
UID:2200-1773216000-1773230400@bombelmann.de
SUMMARY:Grundschule Am Stollen\, 98693 Ilmenau
DESCRIPTION:
URL:https://bombelmann.de/event/grundschule-am-stollen-98693-ilmenau-2/
LOCATION:Grundschule Am Stoellen\, Bergrat-Vooigt-Straße 51\, Ilmenau\, 98693
END:VEVENT
BEGIN:VEVENT
DTSTART;TZID=Europe/Berlin:20260316T080000
DTEND;TZID=Europe/Berlin:20260316T120000
DTSTAMP:20260425T232328
CREATED:20250807T055001Z
LAST-MODIFIED:20250807T055001Z
UID:2198-1773648000-1773662400@bombelmann.de
SUMMARY:Staatliche GS Ronneburg\, 07580 Ronneburg
DESCRIPTION:
URL:https://bombelmann.de/event/staatliche-gs-ronneburg-07580-ronneburg/
LOCATION:Grundschule Ronneburg 07580 Ronneburg\, Goethestraße 28\, Ronneburg\, 07580
END:VEVENT
BEGIN:VEVENT
DTSTART;TZID=Europe/Berlin:20260319T081000
DTEND;TZID=Europe/Berlin:20260319T120000
DTSTAMP:20260425T232328
CREATED:20251204T173607Z
LAST-MODIFIED:20251204T173607Z
UID:2326-1773907800-1773921600@bombelmann.de
SUMMARY:Johann-Wolf-Schule\, 37176 Nörten-Hardenberg
DESCRIPTION:
URL:https://bombelmann.de/event/johann-wolf-schule-37176-noerten-hardenberg/
LOCATION:Johann-Wolf-Schule\, Gerhart-Hauptmann-Straße 10\, Nörten-Hardenberg\, 37176
END:VEVENT
BEGIN:VEVENT
DTSTART;TZID=Europe/Berlin:20260324T090000
DTEND;TZID=Europe/Berlin:20260324T120000
DTSTAMP:20260425T232328
CREATED:20250923T090356Z
LAST-MODIFIED:20250923T090356Z
UID:2274-1774342800-1774353600@bombelmann.de
SUMMARY:Grundschule Simmershausen\, 34233 Fuldatal
DESCRIPTION:
URL:https://bombelmann.de/event/grundschule-simmershausen-34233-fuldatal/
LOCATION:Grundschule Simmershausen\, Teichstraße 10\, Fuldatal-Simmershausen\, 34233
END:VEVENT
END:VCALENDAR