BEGIN:VCALENDAR
VERSION:2.0
PRODID:-//Herr Bombelmann - ECPv5.9.0//NONSGML v1.0//EN
CALSCALE:GREGORIAN
METHOD:PUBLISH
X-WR-CALNAME:Herr Bombelmann
X-ORIGINAL-URL:https://bombelmann.de
X-WR-CALDESC:Events for Herr Bombelmann
BEGIN:VTIMEZONE
TZID:Europe/Berlin
BEGIN:DAYLIGHT
TZOFFSETFROM:+0100
TZOFFSETTO:+0200
TZNAME:CEST
DTSTART:20260329T010000
END:DAYLIGHT
BEGIN:STANDARD
TZOFFSETFROM:+0200
TZOFFSETTO:+0100
TZNAME:CET
DTSTART:20261025T010000
END:STANDARD
END:VTIMEZONE
BEGIN:VEVENT
DTSTART;TZID=Europe/Berlin:20260605T080000
DTEND;TZID=Europe/Berlin:20260605T120000
DTSTAMP:20260425T135151
CREATED:20250903T090242Z
LAST-MODIFIED:20250903T090242Z
UID:2246-1780646400-1780660800@bombelmann.de
SUMMARY:Staatliche Grundschule Rottleben\, 99707 Kyffhäuserland
DESCRIPTION:
URL:https://bombelmann.de/event/staatliche-grundschule-rottleben-99707-kyffhaeuserland/
LOCATION:Staatliche Grundschule Rottleben\, Schulstraße 3\, Kyffhäuserland\, 99707
END:VEVENT
BEGIN:VEVENT
DTSTART;TZID=Europe/Berlin:20260610T080000
DTEND;TZID=Europe/Berlin:20260610T120000
DTSTAMP:20260425T135151
CREATED:20260302T172646Z
LAST-MODIFIED:20260303T171433Z
UID:2416-1781078400-1781092800@bombelmann.de
SUMMARY:Astrid-Lindgren-Schule\, Elementary School\, 63768 Hösbach
DESCRIPTION:
URL:https://bombelmann.de/event/astrid-lindgren-schule-elementary-school-63768-hoesbach/
LOCATION:Astrid-Lindgren-Schule\, Elementary School\, Jahnstraße 1-3\, Hösbach\, 63768
END:VEVENT
BEGIN:VEVENT
DTSTART;TZID=Europe/Berlin:20260617T083000
DTEND;TZID=Europe/Berlin:20260617T114500
DTSTAMP:20260425T135151
CREATED:20250916T051601Z
LAST-MODIFIED:20250916T051601Z
UID:2264-1781685000-1781696700@bombelmann.de
SUMMARY:Gönser-Grund-Schule\, 35510 Butzbach
DESCRIPTION:
URL:https://bombelmann.de/event/goenser-grund-schule-35510-butzbach/
LOCATION:Gönser-Grund-Schule\, Grenzweg 1\, Butzbach\, 35510
END:VEVENT
BEGIN:VEVENT
DTSTART;TZID=Europe/Berlin:20260622T080000
DTEND;TZID=Europe/Berlin:20260624T170000
DTSTAMP:20260425T135151
CREATED:20260205T135558Z
LAST-MODIFIED:20260205T135558Z
UID:2392-1782115200-1782320400@bombelmann.de
SUMMARY:Administrativ
DESCRIPTION:
URL:https://bombelmann.de/event/administrativ-32/
END:VEVENT
BEGIN:VEVENT
DTSTART;TZID=Europe/Berlin:20260626T100000
DTEND;TZID=Europe/Berlin:20260626T120000
DTSTAMP:20260425T135151
CREATED:20251029T083323Z
LAST-MODIFIED:20251029T083323Z
UID:2305-1782468000-1782475200@bombelmann.de
SUMMARY:Grundschule Wartmannsroth\, 97797 Wartmannsroth
DESCRIPTION:
URL:https://bombelmann.de/event/grundschule-wartmannsroth-97797-wartmannsroth/
LOCATION:Grundschule Wartmannsroth\, Gerstenberg 8\, Wartmannsroth\, 97797
END:VEVENT
END:VCALENDAR